BEGIN:VCALENDAR
VERSION:2.0
PRODID:-//Luzy.fr - ECPv5.2.0//NONSGML v1.0//EN
CALSCALE:GREGORIAN
METHOD:PUBLISH
X-WR-CALNAME:Luzy.fr
X-ORIGINAL-URL:https://www.luzy.fr
X-WR-CALDESC:évènements pour Luzy.fr
BEGIN:VTIMEZONE
TZID:Europe/Paris
BEGIN:DAYLIGHT
TZOFFSETFROM:+0100
TZOFFSETTO:+0200
TZNAME:CEST
DTSTART:20260329T010000
END:DAYLIGHT
BEGIN:STANDARD
TZOFFSETFROM:+0200
TZOFFSETTO:+0100
TZNAME:CET
DTSTART:20261025T010000
END:STANDARD
END:VTIMEZONE
BEGIN:VEVENT
DTSTART;TZID=Europe/Paris:20260422T133000
DTEND;TZID=Europe/Paris:20260422T163000
DTSTAMP:20260419T160420
CREATED:20260417T073841Z
LAST-MODIFIED:20260417T073841Z
UID:16276-1776864600-1776875400@www.luzy.fr
SUMMARY:Semons des fleurs\, au jardin commun
DESCRIPTION:mercredi 22 avril- 13h30/16h30\n RDV mercredi prochain au “jardin commun” pour semer des graines de fleurs et repars avec ton godet!\nUne table de semis adaptée aux enfants sera au rendez-vous\n\n\nParticipation libre\nArrivée et départ libres
URL:https://www.luzy.fr/evenement/semons-des-fleurs-au-jardin-commun/
LOCATION:Montarmin\, Luzy\, France
CATEGORIES:Agriculture
ATTACH;FMTTYPE=image/jpeg:https://www.luzy.fr/wp-content/uploads/2026/04/672381144_122287943774029388_930843399473661098_n.jpg
END:VEVENT
END:VCALENDAR